BEGIN:VCALENDAR
VERSION:2.0
PRODID:-//concordia-beesd.nl - ECPv6.14.0//NONSGML v1.0//EN
CALSCALE:GREGORIAN
METHOD:PUBLISH
X-WR-CALNAME:concordia-beesd.nl
X-ORIGINAL-URL:https://concordia-beesd.nl
X-WR-CALDESC:Evenementen voor concordia-beesd.nl
REFRESH-INTERVAL;VALUE=DURATION:PT1H
X-Robots-Tag:noindex
X-PUBLISHED-TTL:PT1H
BEGIN:VTIMEZONE
TZID:UTC
BEGIN:STANDARD
TZOFFSETFROM:+0000
TZOFFSETTO:+0000
TZNAME:UTC
DTSTART:20250101T000000
END:STANDARD
END:VTIMEZONE
BEGIN:VEVENT
DTSTART;TZID=UTC:20260118T143000
DTEND;TZID=UTC:20260118T160000
DTSTAMP:20260420T065540
CREATED:20260107T192248Z
LAST-MODIFIED:20260107T192248Z
UID:1252-1768746600-1768752000@concordia-beesd.nl
SUMMARY:Nieuwjaarsconcert
DESCRIPTION:
URL:https://concordia-beesd.nl/index.php/evenement/nieuwjaarsconcert/
LOCATION:St. Pieterskerk\, Voorstraat 92\, Beesd\, 4153 AN
CATEGORIES:Concert
ATTACH;FMTTYPE=image/png:https://concordia-beesd.nl/wp-content/uploads/2026/01/Poster-Concordia-Nieuwjaarsconcert.png
END:VEVENT
BEGIN:VEVENT
DTSTART;TZID=UTC:20250711T193000
DTEND;TZID=UTC:20250711T210000
DTSTAMP:20260420T065540
CREATED:20250526T190957Z
LAST-MODIFIED:20250708T180743Z
UID:1218-1752262200-1752267600@concordia-beesd.nl
SUMMARY:Zomerconcert
DESCRIPTION:
URL:https://concordia-beesd.nl/index.php/evenement/zomerconcert/
LOCATION:Meat The Butcher & IJsbar 98\, Voorstraat 98\, Beesd\, Gelderland\, 4153 AN\, Netherlands
CATEGORIES:Concert
ATTACH;FMTTYPE=image/png:https://concordia-beesd.nl/wp-content/uploads/2025/05/Facebook-Concordia-Zomerconcert-25.png
END:VEVENT
BEGIN:VEVENT
DTSTART;TZID=UTC:20250412T193000
DTEND;TZID=UTC:20250412T233000
DTSTAMP:20260420T065540
CREATED:20250204T131650Z
LAST-MODIFIED:20250226T152556Z
UID:1009-1744486200-1744500600@concordia-beesd.nl
SUMMARY:Voorjaarsconcert 80 jaar Vrijheid
DESCRIPTION:Dit jaar zal ons jaarlijkse Voorjaarsconcert geheel in het teken staan van de viering van 80 jaar vrijheid van Nederland. Voor dit evenement hebben we twee solo-zangers uitgenodigd. We vertellen\, naast muziek uit de jaren voor\, tijdens en net na de oorlog\, een stukje geschiedenis van Beesd in oorlogstijd en we houden na afloop een ouderwetse dansavond met muzikale begeleiding van bigband “Sweet Blossom Orchestra”. \nTickets zijn dit jaar ook vooraf te kopen. Dit kan online via de website van Eventbrite of fysiek bij Gardenmaster Beesd of Het Klokhuis.
URL:https://concordia-beesd.nl/index.php/evenement/voorjaarsconcert-80-jaar-vrijheid/
LOCATION:Het Klokhuis\, Jeugdlaan 2\, Beesd\, Gelderland\, 4153 BE\, Netherlands
CATEGORIES:Concert
ATTACH;FMTTYPE=image/jpeg:https://concordia-beesd.nl/wp-content/uploads/2025/02/Aangepaste-versie-voor-PR-met-logo-SBO-1.pdf.jpg
END:VEVENT
END:VCALENDAR