BEGIN:VCALENDAR
VERSION:2.0
PRODID:-//concordia-beesd.nl - ECPv6.14.0//NONSGML v1.0//EN
CALSCALE:GREGORIAN
METHOD:PUBLISH
X-ORIGINAL-URL:https://concordia-beesd.nl
X-WR-CALDESC:Evenementen voor concordia-beesd.nl
REFRESH-INTERVAL;VALUE=DURATION:PT1H
X-Robots-Tag:noindex
X-PUBLISHED-TTL:PT1H
BEGIN:VTIMEZONE
TZID:UTC
BEGIN:STANDARD
TZOFFSETFROM:+0000
TZOFFSETTO:+0000
TZNAME:UTC
DTSTART:20250101T000000
END:STANDARD
END:VTIMEZONE
BEGIN:VEVENT
DTSTART;TZID=UTC:20250504T190000
DTEND;TZID=UTC:20250504T203000
DTSTAMP:20260422T104728
CREATED:20250415T105818Z
LAST-MODIFIED:20250415T105818Z
UID:1187-1746385200-1746390600@concordia-beesd.nl
SUMMARY:Dodenherdenking
DESCRIPTION:
URL:https://concordia-beesd.nl/index.php/evenement/dodenherdenking/
LOCATION:R.K. Kerk Beesd\, Voorstraat 21\, Beesd\, 4153 AH\, Netherlands
CATEGORIES:Dorpsevenement
END:VEVENT
END:VCALENDAR